BEGIN:VCALENDAR
VERSION:2.0
PRODID:-//85.13.138.186//NONSGML kigkonsult.se iCalcreator 2.20//
CALSCALE:GREGORIAN
METHOD:PUBLISH
X-WR-TIMEZONE:Europe/Berlin
BEGIN:VEVENT
UID:event8365@Gesamtkirchengemeinde Lehrte
DTSTAMP:20260419T131812Z
CATEGORIES:Musik
DESCRIPTION:Erwachsenenchor\nCategory: Musik\nLink: http://xn--matthus-lehr
 te-9hb.de/index.php?option=com_jem&view=event&id=8365:erwachsenenchor\n
DTSTART;TZID=Europe/Berlin:20261013T183000
DTEND;TZID=Europe/Berlin:20261013T200000
LOCATION:Kirchenzentrum
SUMMARY:Erwachsenenchor
URL:http://xn--matthus-lehrte-9hb.de/index.php?option=com_jem&view=event&id
 =8365:erwachsenenchor
END:VEVENT
END:VCALENDAR